Workbook

Sheet Summe
A1: Zeiterfassung für Horizon 2020 Projekte
A5: Fördermittelempfänger
A6: Projektname & -nummer
A7: Jahr
A8: Name des Angestellten
B11: Date: | C11: 1 | D11: 2 | E11: 3 | F11: 4 | G11: 5 | H11: 6 | I11: 7 | J11: 8 | K11: 9 | L11: 10 | M11: 11 | N11: 12 | O11: 13 | P11: 14 | Q11: 15 | R11: 16 | S11: 17 | T11: 18 | U11: 19 | V11: 20 | W11: 21 | X11: 22 | Y11: 23 | Z11: 24 | AA11: 25 | AB11: 26 | AC11: 27 | AD11: 28 | AE11: 29 | AF11: 30 | AG11: 31 | AH11: Total
A12: Projektname | C12: =SUM(C13:C16) -> 0 | D12: =SUM(D13:D16) -> 0 | E12: =SUM(E13:E16) -> 0 | F12: =SUM(F13:F16) -> 0 | G12: =SUM(G13:G16) -> 0 | H12: =SUM(H13:H16) -> 0 | I12: =SUM(I13:I16) -> 0 | J12: =SUM(J13:J16) -> 0 | ... AG12: =SUM(AG13:AG16) -> 0 | AH12: =SUM(C12:AG12) -> 0
A13: WP no. | AH13: =SUM(C13:AG13) -> 0
A14: WP no. | AH14: =SUM(C14:AG14) -> 0
A15: WP no. | AH15: =SUM(C15:AG15) -> 0
A16: WP no. | AH16: =SUM(C16:AG16) -> 0
A17: Sonstige Aktivitäten | AH17: =SUM(C17:AG17) -> 0
A18: Abwesenheiten | AH18: =SUM(C18:AG18) -> 0
A19: Total hours/day | C19: =SUM(C13:C18) -> 0 | D19: =SUM(D13:D18) -> 0 | E19: =SUM(E13:E18) -> 0 | F19: =SUM(F13:F18) -> 0 | G19: =SUM(G13:G18) -> 0 | H19: =SUM(H13:H18) -> 0 | I19: =SUM(I13:I18) -> 0 | J19: =SUM(J13:J18) -> 0 | ... AH19: =SUM(AH13:AH18) -> 0
C28: Datum und Unterschrift des Angestellten | U28: Datum und Unterschrift des Supervisors

Sheet Daten
A1: Dateneingabe
A3: Überschrift | B3: Horizon 2020 - timesheet
A5: Beneficiary's name | B5: ABC GmbH
A6: Title of the action (acronym) | B6: 123DJ
A7: Grant Agreement No: | B7: 1234
A8: Year | B8: 2018
A9: Name of employee | B9: Egon Müller
A13: Projektanteil
A15: Projektstunden | B15: =+Januar!AH20+Februar!AF20+März!AH20+April!AG20+Mai!AH20+Juni!AG20+Juli!AH20+August!AH20+September!AG20+Oktober!AH20+November!AG20+Dezember!AH20 -> 8
A16: Arbeitsstunden pro Jahr | B16: 1720
A17: Projektanteil | B17: =+B15/B16 -> 0.0046511628

Sheet Januar
A1: =+Daten!B3 -> Horizon 2020 - timesheet
A5: =+Daten!A5 -> Beneficiary's name | D5: =+Daten!B5 -> ABC GmbH
A6: =+Daten!A6 -> Title of the action (acronym) | D6: =+Daten!B6 -> 123DJ
A7: =+Daten!A7 -> Grant Agreement No: | D7: =+Daten!B7 -> 1234
A8: Month & year | D8: Januar | F8: =+Daten!B8 -> 2018
A9: =+Daten!A9 -> Name of employee | D9: =Daten!B9 -> Egon Müller
B12: Date: | C12: 1 | D12: 2 | E12: 3 | F12: 4 | G12: 5 | H12: 6 | I12: 7 | J12: 8 | K12: 9 | L12: 10 | M12: 11 | N12: 12 | O12: 13 | P12: 14 | Q12: 15 | R12: 16 | S12: 17 | T12: 18 | U12: 19 | V12: 20 | W12: 21 | X12: 22 | Y12: 23 | Z12: 24 | AA12: 25 | AB12: 26 | AC12: 27 | AD12: 28 | AE12: 29 | AF12: 30 | AG12: 31 | AH12: Total
C13: =SUM(C14:C17) -> 0 | D13: =SUM(D14:D17) -> 0 | E13: =SUM(E14:E17) -> 0 | F13: =SUM(F14:F17) -> 0 | G13: =SUM(G14:G17) -> 0 | H13: =SUM(H14:H17) -> 0 | I13: =SUM(I14:I17) -> 0 | J13: =SUM(J14:J17) -> 0 | ... AG13: =SUM(AG14:AG17) -> 0 | AH13: =SUM(C13:AG13) -> 0
A14: WP no. | AH14: =SUM(C14:AG14) -> 0
A15: WP no. | AH15: =SUM(C15:AG15) -> 0
A16: WP no. | AH16: =SUM(C16:AG16) -> 0
A17: WP no. | AH17: =SUM(C17:AG17) -> 0
A18: other activities | AH18: =SUM(C18:AG18) -> 0
A19: absence | AH19: =SUM(C19:AG19) -> 0
A20: Total hours | C20: =SUM(C14:C19) -> 0 | D20: =SUM(D14:D19) -> 0 | E20: =SUM(E14:E19) -> 0 | F20: =SUM(F14:F19) -> 0 | G20: =SUM(G14:G19) -> 0 | H20: =SUM(H14:H19) -> 0 | I20: =SUM(I14:I19) -> 0 | J20: =SUM(J14:J19) -> 0 | ... AH20: =SUM(AH14:AH19) -> 0
A25: The employee & supervisor hereby confirm that:
A26: The information provided is complete, reliable and true.
A27: The hours declared are worked for the action.
C34: date & name of employee | U34: date & name of supervisor

Sheet Februar
A1: =+Januar!A1 -> Horizon 2020 - timesheet
A5: =+Januar!A5 -> Beneficiary's name | D5: =+Daten!B5 -> ABC GmbH
A6: =+Januar!A6 -> Title of the action (acronym) | D6: =+Daten!B6 -> 123DJ
A7: =+Daten!A7 -> Grant Agreement No: | D7: =+Daten!B7 -> 1234
A8: Month & year | D8: Februar | F8: =+Daten!B8 -> 2018
A9: =+Daten!A9 -> Name of employee | D9: =Daten!B9 -> Egon Müller
B12: Date: | C12: 1 | D12: 2 | E12: 3 | F12: 4 | G12: 5 | H12: 6 | I12: 7 | J12: 8 | K12: 9 | L12: 10 | M12: 11 | N12: 12 | O12: 13 | P12: 14 | Q12: 15 | R12: 16 | S12: 17 | T12: 18 | U12: 19 | V12: 20 | W12: 21 | X12: 22 | Y12: 23 | Z12: 24 | AA12: 25 | AB12: 26 | AC12: 27 | AD12: 28 | AE12: 29 | AF12: Total
C13: =SUM(C14:C17) -> 0 | D13: =SUM(D14:D17) -> 0 | E13: =SUM(E14:E17) -> 0 | F13: =SUM(F14:F17) -> 0 | G13: =SUM(G14:G17) -> 0 | H13: =SUM(H14:H17) -> 0 | I13: =SUM(I14:I17) -> 0 | J13: =SUM(J14:J17) -> 0 | ... AE13: =SUM(AE14:AE17) -> 0 | AF13: =SUM(C13:AE13) -> 0
A14: WP no. | AF14: =SUM(C14:AE14) -> 0
A15: WP no. | AF15: =SUM(C15:AE15) -> 0
A16: WP no. | AF16: =SUM(C16:AE16) -> 0
A17: WP no. | AF17: =SUM(C17:AE17) -> 0
A18: other activities | AF18: =SUM(C18:AE18) -> 0
A19: absence | AF19: =SUM(C19:AE19) -> 0
A20: Total hours | C20: =SUM(C14:C19) -> 0 | D20: =SUM(D14:D19) -> 0 | E20: =SUM(E14:E19) -> 0 | F20: =SUM(F14:F19) -> 0 | G20: =SUM(G14:G19) -> 0 | H20: =SUM(H14:H19) -> 0 | I20: =SUM(I14:I19) -> 0 | J20: =SUM(J14:J19) -> 0 | ... AF20: =SUM(AF14:AF19) -> 0
A25: The employee & supervisor hereby confirm that:
A26: The information provided is complete, reliable and true.
A27: The hours declared are worked for the action.
C34: date & name of employee | U34: date & name of supervisor

Sheet März
A1: =+Januar!A1 -> Horizon 2020 - timesheet
A5: =+Januar!A5 -> Beneficiary's name | D5: =+Daten!B5 -> ABC GmbH
A6: =+Januar!A6 -> Title of the action (acronym) | D6: =+Daten!B6 -> 123DJ
A7: =+Daten!A7 -> Grant Agreement No: | D7: =+Daten!B7 -> 1234
A8: Month & year | D8: März | F8: =+Daten!B8 -> 2018
A9: =+Daten!A9 -> Name of employee | D9: =Daten!B9 -> Egon Müller
B12: Date: | C12: 1 | D12: 2 | E12: 3 | F12: 4 | G12: 5 | H12: 6 | I12: 7 | J12: 8 | K12: 9 | L12: 10 | M12: 11 | N12: 12 | O12: 13 | P12: 14 | Q12: 15 | R12: 16 | S12: 17 | T12: 18 | U12: 19 | V12: 20 | W12: 21 | X12: 22 | Y12: 23 | Z12: 24 | AA12: 25 | AB12: 26 | AC12: 27 | AD12: 28 | AE12: 29 | AF12: 30 | AG12: 31 | AH12: Total
C13: =SUM(C14:C17) -> 0 | D13: =SUM(D14:D17) -> 0 | E13: =SUM(E14:E17) -> 0 | F13: =SUM(F14:F17) -> 0 | G13: =SUM(G14:G17) -> 0 | H13: =SUM(H14:H17) -> 0 | I13: =SUM(I14:I17) -> 0 | J13: =SUM(J14:J17) -> 0 | ... AG13: =SUM(AG14:AG17) -> 0 | AH13: =SUM(C13:AG13) -> 0
A14: WP no. | AH14: =SUM(C14:AG14) -> 0
A15: WP no. | AH15: =SUM(C15:AG15) -> 0
A16: WP no. | AH16: =SUM(C16:AG16) -> 0
A17: WP no. | AH17: =SUM(C17:AG17) -> 0
A18: other activities | AH18: =SUM(C18:AG18) -> 0
A19: absence | AH19: =SUM(C19:AG19) -> 0
A20: Total hours | C20: =SUM(C14:C19) -> 0 | D20: =SUM(D14:D19) -> 0 | E20: =SUM(E14:E19) -> 0 | F20: =SUM(F14:F19) -> 0 | G20: =SUM(G14:G19) -> 0 | H20: =SUM(H14:H19) -> 0 | I20: =SUM(I14:I19) -> 0 | J20: =SUM(J14:J19) -> 0 | ... AH20: =SUM(AH14:AH19) -> 0
A25: The employee & supervisor hereby confirm that:
A26: The information provided is complete, reliable and true.
A27: The hours declared are worked for the action.
C34: date & name of employee | U34: date & name of supervisor

Sheet April
A1: =+Januar!A1 -> Horizon 2020 - timesheet
A5: =+Januar!A5 -> Beneficiary's name | D5: =+Daten!B5 -> ABC GmbH
A6: =+Januar!A6 -> Title of the action (acronym) | D6: =+Daten!B6 -> 123DJ
A7: =+Daten!A7 -> Grant Agreement No: | D7: =+Daten!B7 -> 1234
A8: Month & year | D8: April | F8: =+Daten!B8 -> 2018
A9: =+Daten!A9 -> Name of employee | D9: =Daten!B9 -> Egon Müller
B12: Date: | C12: 1 | D12: 2 | E12: 3 | F12: 4 | G12: 5 | H12: 6 | I12: 7 | J12: 8 | K12: 9 | L12: 10 | M12: 11 | N12: 12 | O12: 13 | P12: 14 | Q12: 15 | R12: 16 | S12: 17 | T12: 18 | U12: 19 | V12: 20 | W12: 21 | X12: 22 | Y12: 23 | Z12: 24 | AA12: 25 | AB12: 26 | AC12: 27 | AD12: 28 | AE12: 29 | AF12: 30 | AG12: Total
C13: =SUM(C14:C17) -> 0 | D13: =SUM(D14:D17) -> 0 | E13: =SUM(E14:E17) -> 0 | F13: =SUM(F14:F17) -> 0 | G13: =SUM(G14:G17) -> 0 | H13: =SUM(H14:H17) -> 0 | I13: =SUM(I14:I17) -> 0 | J13: =SUM(J14:J17) -> 0 | ... AF13: =SUM(AF14:AF17) -> 0 | AG13: =SUM(C13:AF13) -> 0
A14: WP no. | AG14: =SUM(C14:AF14) -> 0
A15: WP no. | AG15: =SUM(C15:AF15) -> 0
A16: WP no. | AG16: =SUM(C16:AF16) -> 0
A17: WP no. | AG17: =SUM(C17:AF17) -> 0
A18: other activities | AG18: =SUM(C18:AF18) -> 0
A19: absence | AG19: =SUM(C19:AF19) -> 0
A20: Total hours | C20: =SUM(C14:C19) -> 0 | D20: =SUM(D14:D19) -> 0 | E20: =SUM(E14:E19) -> 0 | F20: =SUM(F14:F19) -> 0 | G20: =SUM(G14:G19) -> 0 | H20: =SUM(H14:H19) -> 0 | I20: =SUM(I14:I19) -> 0 | J20: =SUM(J14:J19) -> 0 | ... AG20: =SUM(AG14:AG19) -> 0
A25: The employee & supervisor hereby confirm that:
A26: The information provided is complete, reliable and true.
A27: The hours declared are worked for the action.
C34: date & name of employee | U34: date & name of supervisor

Sheet Mai
A1: =+April!A1 -> Horizon 2020 - timesheet
A5: =+Januar!A5 -> Beneficiary's name | D5: =+Daten!B5 -> ABC GmbH
A6: =+Januar!A6 -> Title of the action (acronym) | D6: =+Daten!B6 -> 123DJ
A7: =+Daten!A7 -> Grant Agreement No: | D7: =+Daten!B7 -> 1234
A8: Month & year | D8: Mai | F8: =+Daten!B8 -> 2018
A9: =+Daten!A9 -> Name of employee | D9: =Daten!B9 -> Egon Müller
B12: Date: | C12: 1 | D12: 2 | E12: 3 | F12: 4 | G12: 5 | H12: 6 | I12: 7 | J12: 8 | K12: 9 | L12: 10 | M12: 11 | N12: 12 | O12: 13 | P12: 14 | Q12: 15 | R12: 16 | S12: 17 | T12: 18 | U12: 19 | V12: 20 | W12: 21 | X12: 22 | Y12: 23 | Z12: 24 | AA12: 25 | AB12: 26 | AC12: 27 | AD12: 28 | AE12: 29 | AF12: 30 | AG12: 31 | AH12: Total
C13: =SUM(C14:C17) -> 0 | D13: =SUM(D14:D17) -> 0 | E13: =SUM(E14:E17) -> 0 | F13: =SUM(F14:F17) -> 0 | G13: =SUM(G14:G17) -> 0 | H13: =SUM(H14:H17) -> 0 | I13: =SUM(I14:I17) -> 0 | J13: =SUM(J14:J17) -> 0 | ... AG13: =SUM(AG14:AG17) -> 0 | AH13: =SUM(C13:AG13) -> 0
A14: WP no. | AH14: =SUM(C14:AG14) -> 0
A15: WP no. | AH15: =SUM(C15:AG15) -> 0
A16: WP no. | AH16: =SUM(C16:AG16) -> 0
A17: WP no. | AH17: =SUM(C17:AG17) -> 0
A18: other activities | AH18: =SUM(C18:AG18) -> 0
A19: absence | AH19: =SUM(C19:AG19) -> 0
A20: Total hours | C20: =SUM(C14:C19) -> 0 | D20: =SUM(D14:D19) -> 0 | E20: =SUM(E14:E19) -> 0 | F20: =SUM(F14:F19) -> 0 | G20: =SUM(G14:G19) -> 0 | H20: =SUM(H14:H19) -> 0 | I20: =SUM(I14:I19) -> 0 | J20: =SUM(J14:J19) -> 0 | ... AH20: =SUM(AH14:AH19) -> 0
A25: The employee & supervisor hereby confirm that:
A26: The information provided is complete, reliable and true.
A27: The hours declared are worked for the action.
C34: date & name of employee | U34: date & name of supervisor

Sheet Juni
A1: =+Januar!A1 -> Horizon 2020 - timesheet
A5: =+Januar!A5 -> Beneficiary's name | D5: =+Daten!B5 -> ABC GmbH
A6: =+Januar!A6 -> Title of the action (acronym) | D6: =+Daten!B6 -> 123DJ
A7: =+Daten!A7 -> Grant Agreement No: | D7: =+Daten!B7 -> 1234
A8: Month & year | D8: Juni | F8: =+Daten!B8 -> 2018
A9: =+Daten!A9 -> Name of employee | D9: =Daten!B9 -> Egon Müller
B12: Date: | C12: 1 | D12: 2 | E12: 3 | F12: 4 | G12: 5 | H12: 6 | I12: 7 | J12: 8 | K12: 9 | L12: 10 | M12: 11 | N12: 12 | O12: 13 | P12: 14 | Q12: 15 | R12: 16 | S12: 17 | T12: 18 | U12: 19 | V12: 20 | W12: 21 | X12: 22 | Y12: 23 | Z12: 24 | AA12: 25 | AB12: 26 | AC12: 27 | AD12: 28 | AE12: 29 | AF12: 30 | AG12: Total
C13: =SUM(C14:C17) -> 0 | D13: =SUM(D14:D17) -> 0 | E13: =SUM(E14:E17) -> 0 | F13: =SUM(F14:F17) -> 0 | G13: =SUM(G14:G17) -> 0 | H13: =SUM(H14:H17) -> 0 | I13: =SUM(I14:I17) -> 0 | J13: =SUM(J14:J17) -> 0 | ... AF13: =SUM(AF14:AF17) -> 0 | AG13: =SUM(C13:AF13) -> 0
A14: WP no. | AG14: =SUM(C14:AF14) -> 0
A15: WP no. | AG15: =SUM(C15:AF15) -> 0
A16: WP no. | AG16: =SUM(C16:AF16) -> 0
A17: WP no. | AG17: =SUM(C17:AF17) -> 0
A18: other activities | AG18: =SUM(C18:AF18) -> 0
A19: absence | AG19: =SUM(C19:AF19) -> 0
A20: Total hours | C20: =SUM(C14:C19) -> 0 | D20: =SUM(D14:D19) -> 0 | E20: =SUM(E14:E19) -> 0 | F20: =SUM(F14:F19) -> 0 | G20: =SUM(G14:G19) -> 0 | H20: =SUM(H14:H19) -> 0 | I20: =SUM(I14:I19) -> 0 | J20: =SUM(J14:J19) -> 0 | ... AG20: =SUM(AG14:AG19) -> 0
A25: The employee & supervisor hereby confirm that:
A26: The information provided is complete, reliable and true.
A27: The hours declared are worked for the action.
C34: date & name of employee | U34: date & name of supervisor

Sheet Juli
A1: =+Januar!A1 -> Horizon 2020 - timesheet
A5: =+Januar!A5 -> Beneficiary's name | D5: =+Daten!B5 -> ABC GmbH
A6: =+Januar!A6 -> Title of the action (acronym) | D6: =+Daten!B6 -> 123DJ
A7: =+Daten!A7 -> Grant Agreement No: | D7: =+Daten!B7 -> 1234
A8: Month & year | D8: Juli | F8: =+Daten!B8 -> 2018
A9: =+Daten!A9 -> Name of employee | D9: =Daten!B9 -> Egon Müller
B12: Date: | C12: 1 | D12: 2 | E12: 3 | F12: 4 | G12: 5 | H12: 6 | I12: 7 | J12: 8 | K12: 9 | L12: 10 | M12: 11 | N12: 12 | O12: 13 | P12: 14 | Q12: 15 | R12: 16 | S12: 17 | T12: 18 | U12: 19 | V12: 20 | W12: 21 | X12: 22 | Y12: 23 | Z12: 24 | AA12: 25 | AB12: 26 | AC12: 27 | AD12: 28 | AE12: 29 | AF12: 30 | AG12: 31 | AH12: Total
C13: =SUM(C14:C17) -> 0 | D13: =SUM(D14:D17) -> 0 | E13: =SUM(E14:E17) -> 0 | F13: =SUM(F14:F17) -> 0 | G13: =SUM(G14:G17) -> 0 | H13: =SUM(H14:H17) -> 0 | I13: =SUM(I14:I17) -> 0 | J13: =SUM(J14:J17) -> 0 | ... AG13: =SUM(AG14:AG17) -> 0 | AH13: =SUM(C13:AG13) -> 0
A14: WP no. | AH14: =SUM(C14:AG14) -> 0
A15: WP no. | AH15: =SUM(C15:AG15) -> 0
A16: WP no. | AH16: =SUM(C16:AG16) -> 0
A17: WP no. | AH17: =SUM(C17:AG17) -> 0
A18: other activities | AH18: =SUM(C18:AG18) -> 0
A19: absence | AH19: =SUM(C19:AG19) -> 0
A20: Total hours | C20: =SUM(C14:C19) -> 0 | D20: =SUM(D14:D19) -> 0 | E20: =SUM(E14:E19) -> 0 | F20: =SUM(F14:F19) -> 0 | G20: =SUM(G14:G19) -> 0 | H20: =SUM(H14:H19) -> 0 | I20: =SUM(I14:I19) -> 0 | J20: =SUM(J14:J19) -> 0 | ... AH20: =SUM(AH14:AH19) -> 0
A25: The employee & supervisor hereby confirm that:
A26: The information provided is complete, reliable and true.
A27: The hours declared are worked for the action.
C34: date & name of employee | U34: date & name of supervisor

Sheet August
A1: =+Januar!A1 -> Horizon 2020 - timesheet
A5: =+Januar!A5 -> Beneficiary's name | D5: =+Daten!B5 -> ABC GmbH
A6: =+Januar!A6 -> Title of the action (acronym) | D6: =+Daten!B6 -> 123DJ
A7: =+Daten!A7 -> Grant Agreement No: | D7: =+Daten!B7 -> 1234
A8: Month & year | D8: August | F8: =+Daten!B8 -> 2018
A9: =+Daten!A9 -> Name of employee | D9: =Daten!B9 -> Egon Müller
B12: Date: | C12: 1 | D12: 2 | E12: 3 | F12: 4 | G12: 5 | H12: 6 | I12: 7 | J12: 8 | K12: 9 | L12: 10 | M12: 11 | N12: 12 | O12: 13 | P12: 14 | Q12: 15 | R12: 16 | S12: 17 | T12: 18 | U12: 19 | V12: 20 | W12: 21 | X12: 22 | Y12: 23 | Z12: 24 | AA12: 25 | AB12: 26 | AC12: 27 | AD12: 28 | AE12: 29 | AF12: 30 | AG12: 31 | AH12: Total
C13: =SUM(C14:C17) -> 0 | D13: =SUM(D14:D17) -> 0 | E13: =SUM(E14:E17) -> 0 | F13: =SUM(F14:F17) -> 0 | G13: =SUM(G14:G17) -> 0 | H13: =SUM(H14:H17) -> 0 | I13: =SUM(I14:I17) -> 0 | J13: =SUM(J14:J17) -> 0 | ... AG13: =SUM(AG14:AG17) -> 0 | AH13: =SUM(C13:AG13) -> 0
A14: WP no. | AH14: =SUM(C14:AG14) -> 0
A15: WP no. | AH15: =SUM(C15:AG15) -> 0
A16: WP no. | AH16: =SUM(C16:AG16) -> 0
A17: WP no. | AH17: =SUM(C17:AG17) -> 0
A18: other activities | AH18: =SUM(C18:AG18) -> 0
A19: absence | AH19: =SUM(C19:AG19) -> 0
A20: Total hours | C20: =SUM(C14:C19) -> 0 | D20: =SUM(D14:D19) -> 0 | E20: =SUM(E14:E19) -> 0 | F20: =SUM(F14:F19) -> 0 | G20: =SUM(G14:G19) -> 0 | H20: =SUM(H14:H19) -> 0 | I20: =SUM(I14:I19) -> 0 | J20: =SUM(J14:J19) -> 0 | ... AH20: =SUM(AH14:AH19) -> 0
A25: The employee & supervisor hereby confirm that:
A26: The information provided is complete, reliable and true.
A27: The hours declared are worked for the action.
C34: date & name of employee | U34: date & name of supervisor

Sheet September
A1: =+Januar!A1 -> Horizon 2020 - timesheet
A5: =+Januar!A5 -> Beneficiary's name | D5: =+Daten!B5 -> ABC GmbH
A6: =+Januar!A6 -> Title of the action (acronym) | D6: =+Daten!B6 -> 123DJ
A7: =+Daten!A7 -> Grant Agreement No: | D7: =+Daten!B7 -> 1234
A8: Month & year | D8: September | F8: =+Daten!B8 -> 2018
A9: =+Daten!A9 -> Name of employee | D9: =Daten!B9 -> Egon Müller
B12: Date: | C12: 1 | D12: 2 | E12: 3 | F12: 4 | G12: 5 | H12: 6 | I12: 7 | J12: 8 | K12: 9 | L12: 10 | M12: 11 | N12: 12 | O12: 13 | P12: 14 | Q12: 15 | R12: 16 | S12: 17 | T12: 18 | U12: 19 | V12: 20 | W12: 21 | X12: 22 | Y12: 23 | Z12: 24 | AA12: 25 | AB12: 26 | AC12: 27 | AD12: 28 | AE12: 29 | AF12: 30 | AG12: Total
C13: =SUM(C14:C17) -> 0 | D13: =SUM(D14:D17) -> 0 | E13: =SUM(E14:E17) -> 0 | F13: =SUM(F14:F17) -> 0 | G13: =SUM(G14:G17) -> 0 | H13: =SUM(H14:H17) -> 0 | I13: =SUM(I14:I17) -> 0 | J13: =SUM(J14:J17) -> 0 | ... AF13: =SUM(AF14:AF17) -> 0 | AG13: =SUM(C13:AF13) -> 0
A14: WP no. | AG14: =SUM(C14:AF14) -> 0
A15: WP no. | AG15: =SUM(C15:AF15) -> 0
A16: WP no. | AG16: =SUM(C16:AF16) -> 0
A17: WP no. | AG17: =SUM(C17:AF17) -> 0
A18: other activities | AG18: =SUM(C18:AF18) -> 0
A19: absence | AG19: =SUM(C19:AF19) -> 0
A20: Total hours | C20: =SUM(C14:C19) -> 0 | D20: =SUM(D14:D19) -> 0 | E20: =SUM(E14:E19) -> 0 | F20: =SUM(F14:F19) -> 0 | G20: =SUM(G14:G19) -> 0 | H20: =SUM(H14:H19) -> 0 | I20: =SUM(I14:I19) -> 0 | J20: =SUM(J14:J19) -> 0 | ... AG20: =SUM(AG14:AG19) -> 0
A25: The employee & supervisor hereby confirm that:
A26: The information provided is complete, reliable and true.
A27: The hours declared are worked for the action.
C34: date & name of employee | U34: date & name of supervisor

Sheet Oktober
A1: =+Januar!A1 -> Horizon 2020 - timesheet
A5: =+Januar!A5 -> Beneficiary's name | D5: =+Daten!B5 -> ABC GmbH
A6: =+Januar!A6 -> Title of the action (acronym) | D6: =+Daten!B6 -> 123DJ
A7: =+Daten!A7 -> Grant Agreement No: | D7: =+Daten!B7 -> 1234
A8: Month & year | D8: Oktober | F8: =+Daten!B8 -> 2018
A9: =+Daten!A9 -> Name of employee | D9: =Daten!B9 -> Egon Müller
B12: Date: | C12: 1 | D12: 2 | E12: 3 | F12: 4 | G12: 5 | H12: 6 | I12: 7 | J12: 8 | K12: 9 | L12: 10 | M12: 11 | N12: 12 | O12: 13 | P12: 14 | Q12: 15 | R12: 16 | S12: 17 | T12: 18 | U12: 19 | V12: 20 | W12: 21 | X12: 22 | Y12: 23 | Z12: 24 | AA12: 25 | AB12: 26 | AC12: 27 | AD12: 28 | AE12: 29 | AF12: 30 | AG12: 31 | AH12: Total
C13: =SUM(C14:C17) -> 0 | D13: =SUM(D14:D17) -> 0 | E13: =SUM(E14:E17) -> 0 | F13: =SUM(F14:F17) -> 0 | G13: =SUM(G14:G17) -> 0 | H13: =SUM(H14:H17) -> 0 | I13: =SUM(I14:I17) -> 0 | J13: =SUM(J14:J17) -> 0 | ... AG13: =SUM(AG14:AG17) -> 0 | AH13: =SUM(C13:AG13) -> 0
A14: WP no. | AH14: =SUM(C14:AG14) -> 0
A15: WP no. | AH15: =SUM(C15:AG15) -> 0
A16: WP no. | AH16: =SUM(C16:AG16) -> 0
A17: WP no. | AH17: =SUM(C17:AG17) -> 0
A18: other activities | AH18: =SUM(C18:AG18) -> 0
A19: absence | AH19: =SUM(C19:AG19) -> 0
A20: Total hours | C20: =SUM(C14:C19) -> 0 | D20: =SUM(D14:D19) -> 0 | E20: =SUM(E14:E19) -> 0 | F20: =SUM(F14:F19) -> 0 | G20: =SUM(G14:G19) -> 0 | H20: =SUM(H14:H19) -> 0 | I20: =SUM(I14:I19) -> 0 | J20: =SUM(J14:J19) -> 0 | ... AH20: =SUM(AH14:AH19) -> 0
A25: The employee & supervisor hereby confirm that:
A26: The information provided is complete, reliable and true.
A27: The hours declared are worked for the action.
C34: date & name of employee | U34: date & name of supervisor

Sheet November
A1: =+Januar!A1 -> Horizon 2020 - timesheet
A5: =+Januar!A5 -> Beneficiary's name | D5: =+Daten!B5 -> ABC GmbH
A6: =+Januar!A6 -> Title of the action (acronym) | D6: =+Daten!B6 -> 123DJ
A7: =+Daten!A7 -> Grant Agreement No: | D7: =+Daten!B7 -> 1234
A8: Month & year | D8: November | F8: =+Daten!B8 -> 2018
A9: =+Daten!A9 -> Name of employee | D9: =Daten!B9 -> Egon Müller
B12: Date: | C12: 1 | D12: 2 | E12: 3 | F12: 4 | G12: 5 | H12: 6 | I12: 7 | J12: 8 | K12: 9 | L12: 10 | M12: 11 | N12: 12 | O12: 13 | P12: 14 | Q12: 15 | R12: 16 | S12: 17 | T12: 18 | U12: 19 | V12: 20 | W12: 21 | X12: 22 | Y12: 23 | Z12: 24 | AA12: 25 | AB12: 26 | AC12: 27 | AD12: 28 | AE12: 29 | AF12: 30 | AG12: Total
C13: =SUM(C14:C17) -> 0 | D13: =SUM(D14:D17) -> 0 | E13: =SUM(E14:E17) -> 0 | F13: =SUM(F14:F17) -> 0 | G13: =SUM(G14:G17) -> 0 | H13: =SUM(H14:H17) -> 0 | I13: =SUM(I14:I17) -> 0 | J13: =SUM(J14:J17) -> 0 | ... AF13: =SUM(AF14:AF17) -> 0 | AG13: =SUM(C13:AF13) -> 0
A14: WP no. | AG14: =SUM(C14:AF14) -> 0
A15: WP no. | AG15: =SUM(C15:AF15) -> 0
A16: WP no. | AG16: =SUM(C16:AF16) -> 0
A17: WP no. | AG17: =SUM(C17:AF17) -> 0
A18: other activities | AG18: =SUM(C18:AF18) -> 0
A19: absence | AG19: =SUM(C19:AF19) -> 0
A20: Total hours | C20: =SUM(C14:C19) -> 0 | D20: =SUM(D14:D19) -> 0 | E20: =SUM(E14:E19) -> 0 | F20: =SUM(F14:F19) -> 0 | G20: =SUM(G14:G19) -> 0 | H20: =SUM(H14:H19) -> 0 | I20: =SUM(I14:I19) -> 0 | J20: =SUM(J14:J19) -> 0 | ... AG20: =SUM(AG14:AG19) -> 0
A25: The employee & supervisor hereby confirm that:
A26: The information provided is complete, reliable and true.
A27: The hours declared are worked for the action.
C34: date & name of employee | U34: date & name of supervisor

Sheet Dezember
A1: =+Januar!A1 -> Horizon 2020 - timesheet
A5: =+Januar!A5 -> Beneficiary's name | D5: =+Daten!B5 -> ABC GmbH
A6: =+Januar!A6 -> Title of the action (acronym) | D6: =+Daten!B6 -> 123DJ
A7: =+Daten!A7 -> Grant Agreement No: | D7: =+Daten!B7 -> 1234
A8: Month & year | D8: Dezember | F8: =+Daten!B8 -> 2018
A9: =+Daten!A9 -> Name of employee | D9: =Daten!B9 -> Egon Müller
B12: Date: | C12: 1 | D12: 2 | E12: 3 | F12: 4 | G12: 5 | H12: 6 | I12: 7 | J12: 8 | K12: 9 | L12: 10 | M12: 11 | N12: 12 | O12: 13 | P12: 14 | Q12: 15 | R12: 16 | S12: 17 | T12: 18 | U12: 19 | V12: 20 | W12: 21 | X12: 22 | Y12: 23 | Z12: 24 | AA12: 25 | AB12: 26 | AC12: 27 | AD12: 28 | AE12: 29 | AF12: 30 | AG12: 31 | AH12: Total
C13: =SUM(C14:C17) -> 0 | D13: =SUM(D14:D17) -> 0 | E13: =SUM(E14:E17) -> 0 | F13: =SUM(F14:F17) -> 0 | G13: =SUM(G14:G17) -> 0 | H13: =SUM(H14:H17) -> 0 | I13: =SUM(I14:I17) -> 0 | J13: =SUM(J14:J17) -> 0 | ... AG13: =SUM(AG14:AG17) -> 0 | AH13: =SUM(C13:AG13) -> 0
A14: WP no. | AH14: =SUM(C14:AG14) -> 0
A15: WP no. | AH15: =SUM(C15:AG15) -> 0
A16: WP no. | AH16: =SUM(C16:AG16) -> 0
A17: WP no. | AH17: =SUM(C17:AG17) -> 0
A18: other activities | AF18: 5 | AH18: =SUM(C18:AG18) -> 5
A19: absence | AD19: 3 | AH19: =SUM(C19:AG19) -> 3
A20: Total hours | C20: =SUM(C14:C19) -> 0 | D20: =SUM(D14:D19) -> 0 | E20: =SUM(E14:E19) -> 0 | F20: =SUM(F14:F19) -> 0 | G20: =SUM(G14:G19) -> 0 | H20: =SUM(H14:H19) -> 0 | I20: =SUM(I14:I19) -> 0 | J20: =SUM(J14:J19) -> 0 | ... AH20: =SUM(AH14:AH19) -> 8
A25: The employee & supervisor hereby confirm that:
A26: The information provided is complete, reliable and true.
A27: The hours declared are worked for the action.
C34: date & name of employee | U34: date & name of supervisor
